BEGIN:VCALENDAR
VERSION:2.0
PRODID:-//Mount Pearl - ECPv6.15.19//NONSGML v1.0//EN
CALSCALE:GREGORIAN
METHOD:PUBLISH
X-ORIGINAL-URL:https://www.mountpearl.ca
X-WR-CALDESC:Events for Mount Pearl
REFRESH-INTERVAL;VALUE=DURATION:PT1H
X-Robots-Tag:noindex
X-PUBLISHED-TTL:PT1H
BEGIN:VTIMEZONE
TZID:America/St_Johns
BEGIN:DAYLIGHT
TZOFFSETFROM:-0330
TZOFFSETTO:-0230
TZNAME:NDT
DTSTART:20250309T053000
END:DAYLIGHT
BEGIN:STANDARD
TZOFFSETFROM:-0230
TZOFFSETTO:-0330
TZNAME:NST
DTSTART:20251102T043000
END:STANDARD
BEGIN:DAYLIGHT
TZOFFSETFROM:-0330
TZOFFSETTO:-0230
TZNAME:NDT
DTSTART:20260308T053000
END:DAYLIGHT
BEGIN:STANDARD
TZOFFSETFROM:-0230
TZOFFSETTO:-0330
TZNAME:NST
DTSTART:20261101T043000
END:STANDARD
BEGIN:DAYLIGHT
TZOFFSETFROM:-0330
TZOFFSETTO:-0230
TZNAME:NDT
DTSTART:20270314T053000
END:DAYLIGHT
BEGIN:STANDARD
TZOFFSETFROM:-0230
TZOFFSETTO:-0330
TZNAME:NST
DTSTART:20271107T043000
END:STANDARD
END:VTIMEZONE
BEGIN:VEVENT
DTSTART;TZID=America/St_Johns:20260501T200000
DTEND;TZID=America/St_Johns:20260507T203000
DTSTAMP:20260421T155428
CREATED:20260421T153821Z
LAST-MODIFIED:20260421T153821Z
UID:79249-1777665600-1778185800@www.mountpearl.ca
SUMMARY:Youth Week 2026
DESCRIPTION:Youth Week is a celebration of the energy\, creativity\, and voices of young people in our community. This week‑long event series is designed to bring youth together through fun\, connection\, and meaningful experiences in safe\, inclusive spaces. Every event is different—check the age info in the event details to make sure it’s the right match for you or your child. \n\nThroughout the week\, youth can take part in a wide range of free activities\, from glow swims\, games\, and sports challenges to creative arts workshops\, social events\, and opportunities to connect with community partners. Whether you’re looking to try something new\, express yourself creatively\, get active\, or just hang out with friends\, Youth Week offers something for everyone. \nAll events are thoughtfully planned with youth in mind and are led by passionate staff\, artists\, facilitators\, and community partners who are committed to making Youth Week memorable\, exciting\, and inclusive. Come join us and be part of a week that celebrates youth. \nFor a full list of events and event details\, please visit mountpearl.ca/youthweek
URL:https://www.mountpearl.ca/event/youth-week-2026/
LOCATION:Reid Community Centre\, 126 Smallwood Drive\, Mount Pearl\, Canada
END:VEVENT
END:VCALENDAR