BEGIN:VCALENDAR
VERSION:2.0
PRODID:-//Mount Pearl - ECPv6.15.19//NONSGML v1.0//EN
CALSCALE:GREGORIAN
METHOD:PUBLISH
X-ORIGINAL-URL:https://www.mountpearl.ca
X-WR-CALDESC:Events for Mount Pearl
REFRESH-INTERVAL;VALUE=DURATION:PT1H
X-Robots-Tag:noindex
X-PUBLISHED-TTL:PT1H
BEGIN:VTIMEZONE
TZID:America/St_Johns
BEGIN:DAYLIGHT
TZOFFSETFROM:-0330
TZOFFSETTO:-0230
TZNAME:NDT
DTSTART:20240310T053000
END:DAYLIGHT
BEGIN:STANDARD
TZOFFSETFROM:-0230
TZOFFSETTO:-0330
TZNAME:NST
DTSTART:20241103T043000
END:STANDARD
BEGIN:DAYLIGHT
TZOFFSETFROM:-0330
TZOFFSETTO:-0230
TZNAME:NDT
DTSTART:20250309T053000
END:DAYLIGHT
BEGIN:STANDARD
TZOFFSETFROM:-0230
TZOFFSETTO:-0330
TZNAME:NST
DTSTART:20251102T043000
END:STANDARD
BEGIN:DAYLIGHT
TZOFFSETFROM:-0330
TZOFFSETTO:-0230
TZNAME:NDT
DTSTART:20260308T053000
END:DAYLIGHT
BEGIN:STANDARD
TZOFFSETFROM:-0230
TZOFFSETTO:-0330
TZNAME:NST
DTSTART:20261101T043000
END:STANDARD
END:VTIMEZONE
BEGIN:VEVENT
DTSTART;TZID=America/St_Johns:20250410T113000
DTEND;TZID=America/St_Johns:20250410T130000
DTSTAMP:20260422T110022
CREATED:20250326T125019Z
LAST-MODIFIED:20250326T125019Z
UID:52166-1744284600-1744290000@www.mountpearl.ca
SUMMARY:Mayor's Outlook 2025
DESCRIPTION:Join Mayor Dave Aker and the Mount Pearl Paradise Chamber of Commerce for our annual outlook luncheon. \nThis exclusive event offers unique insights into Mount Pearl’s future developments and networking opportunities with community leaders. \n\nRegister through the Mount Pearl Paradise Chamber of Commerce website.
URL:https://www.mountpearl.ca/event/mayors-outlook-2025/
LOCATION:The Annex\, Mount Pearl\, Newfoundland and Labrador\, Canada
END:VEVENT
BEGIN:VEVENT
DTSTART;TZID=America/St_Johns:20250419T083000
DTEND;TZID=America/St_Johns:20250419T100000
DTSTAMP:20260422T110022
CREATED:20250318T121402Z
LAST-MODIFIED:20250318T121402Z
UID:51661-1745051400-1745056800@www.mountpearl.ca
SUMMARY:Breakfast with the Easter Bunny
DESCRIPTION:No bunny does breakfast like us!  \nMake your day egg-stra special and join us on April 19th at the Reid Centre for a delightful breakfast with the Easter Bunny! Feast on a scrumptious breakfast\, participate in engaging Easter-themed activities\, and make sure to get a photo with our cherished floppy-eared friend!  \nLet’s Hop into the details:  \n• Joins us from 8:30-10:00 am\n• Tickets are $10/person.\n• Tickets can be purchased online only.\n• Each ticket includes a seat and meal for one person.\n• Breakfast includes eggs\, bacon\, pancakes\, hashbrowns\, tea\, coffee\, juice.\n• Tickets cannot be transferred to the other offered seating.\n• Children under 2 are free to attend (this does not include a meal).\n• Breakfast will not be served after 9:15 am\n• Tickets will be available online only. Tickets can be purchased at this link.\n• Sales will start on Monday\, March 31st at 12 PM and will be available until all tickets are sold. \nIf you have questions about this event or an allergy request\, please contact Allison Whitty\, Community Events Coordinator\, at awhitty@mountpearl.ca.
URL:https://www.mountpearl.ca/event/breakfast-with-the-easter-bunny-5/
LOCATION:Reid Community Centre\, 126 Smallwood Drive\, Mount Pearl\, Canada
END:VEVENT
BEGIN:VEVENT
DTSTART;TZID=America/St_Johns:20250419T113000
DTEND;TZID=America/St_Johns:20250419T130000
DTSTAMP:20260422T110022
CREATED:20250318T122703Z
LAST-MODIFIED:20250318T122703Z
UID:51668-1745062200-1745067600@www.mountpearl.ca
SUMMARY:Brunch with the Easter Bunny
DESCRIPTION:No bunny does brunch like us!  \nMake your day egg-stra special and join us on April 19th at the Reid Centre for a delightful brunch with the Easter Bunny! Feast on a scrumptious breakfast\, participate in engaging Easter-themed activities\, and make sure to get a photo with our cherished floppy-eared friend!  \nLet’s Hop into the details:  \n• Join us from 11:30 am – 1:00 pm\n• Tickets are $10/person.\n• Tickets can be purchased online only.\n• Each ticket includes a seat and meal for one person.\n• Breakfast includes eggs\, bacon\, pancakes\, hashbrowns\, tea\, coffee\, juice.\n• Tickets cannot be transferred to the other offered seating.\n• Children under 2 are free to attend (this does not include a meal).\n• Brunch will not be served after 12:15 pm\n• Tickets will be available online only. Tickets can be purchased at this link.\n• Sales will start on Monday\, March 31st at 12 PM and will be available until all tickets are sold. \nIf you have questions about this event or an allergy request\, please contact Allison Whitty\, Community Events Coordinator\, at awhitty@mountpearl.ca.
URL:https://www.mountpearl.ca/event/brunch-with-the-easter-bunny-2/
LOCATION:Reid Community Centre\, 126 Smallwood Drive\, Mount Pearl\, Canada
END:VEVENT
END:VCALENDAR